BEGIN:VCALENDAR
VERSION:2.0
PRODID:-//Intand Corporation//Tandem//EN
METHOD:PUBLISH
BEGIN:VEVENT
DTSTAMP:20260419T175042Z
DTSTART;VALUE=DATE:20260330
DTEND;VALUE=DATE:20260331
TRANSP:TRANSPARENT
PRIORITY:0
SUMMARY:Area 2 FFA Officer Test Brownfield HS
LOCATION:Brownfield
DESCRIPTION:Area 2 FFA Officer Test Brownfield HS\n\n\nGroups:\nHS FFA\n\n
 Schools:\nSeminole HS\n\nLocation:\nBrownfield\n\n
URL;VALUE=URI:http://hs.seminoleisd.tandem.co/index.php?type=view&action=e
 vent&id=48484
CREATED:20250824T185406Z
LAST-MODIFIED:20250824T185406Z
UID:event-48484-seminoleisd@intand.com
END:VEVENT
END:VCALENDAR
