BEGIN:VCALENDAR
VERSION:2.0
PRODID:-//Intand Corporation//Tandem//EN
METHOD:PUBLISH
BEGIN:VEVENT
DTSTAMP:20260419T180649Z
DTSTART:20260401T170000Z
DTEND:20260401T180000Z
TRANSP:TRANSPARENT
PRIORITY:0
SUMMARY:Heart of Texas CDE 
LOCATION:San Angelo
DESCRIPTION:Heart of Texas CDE \n\n\nGroups:\nHS FFA\n\nSchools:\nSeminole
  HS\n\nLocation:\nSan Angelo\n\n
URL;VALUE=URI:http://hs.seminoleisd.tandem.co/index.php?type=view&action=e
 vent&id=48487
CREATED:20250824T185828Z
LAST-MODIFIED:20250824T185828Z
UID:event-48487-seminoleisd@intand.com
END:VEVENT
END:VCALENDAR
