BEGIN:VCALENDAR
VERSION:2.0
PRODID:-//Intand Corporation//Tandem//EN
METHOD:PUBLISH
BEGIN:VEVENT
DTSTAMP:20260422T041808Z
DTSTART:20260430T170000Z
DTEND:20260430T180000Z
TRANSP:TRANSPARENT
PRIORITY:0
SUMMARY:DEIC Meeting #3
LOCATION:PR Multi Purpose Room
DESCRIPTION:Schools:\nSeminole PR\n\nLocation:\nPR Multi Purpose Room\n\n
URL;VALUE=URI:http://hs.seminoleisd.tandem.co/index.php?type=view&action=e
 vent&id=48714
CREATED:20250910T192136Z
LAST-MODIFIED:20250910T192136Z
UID:event-48714-seminoleisd@intand.com
END:VEVENT
END:VCALENDAR
